BEGIN:VCALENDAR
VERSION:2.0
PRODID:-//SC Compassionate Care Alliance - ECPv6.15.20//NONSGML v1.0//EN
CALSCALE:GREGORIAN
METHOD:PUBLISH
X-WR-CALNAME:SC Compassionate Care Alliance
X-ORIGINAL-URL:https://sccompassion.com
X-WR-CALDESC:Events for SC Compassionate Care Alliance
REFRESH-INTERVAL;VALUE=DURATION:PT1H
X-Robots-Tag:noindex
X-PUBLISHED-TTL:PT1H
BEGIN:VTIMEZONE
TZID:America/Halifax
BEGIN:DAYLIGHT
TZOFFSETFROM:-0400
TZOFFSETTO:-0300
TZNAME:ADT
DTSTART:20160313T060000
END:DAYLIGHT
BEGIN:STANDARD
TZOFFSETFROM:-0300
TZOFFSETTO:-0400
TZNAME:AST
DTSTART:20161106T050000
END:STANDARD
BEGIN:DAYLIGHT
TZOFFSETFROM:-0400
TZOFFSETTO:-0300
TZNAME:ADT
DTSTART:20170312T060000
END:DAYLIGHT
BEGIN:STANDARD
TZOFFSETFROM:-0300
TZOFFSETTO:-0400
TZNAME:AST
DTSTART:20171105T050000
END:STANDARD
BEGIN:DAYLIGHT
TZOFFSETFROM:-0400
TZOFFSETTO:-0300
TZNAME:ADT
DTSTART:20180311T060000
END:DAYLIGHT
BEGIN:STANDARD
TZOFFSETFROM:-0300
TZOFFSETTO:-0400
TZNAME:AST
DTSTART:20181104T050000
END:STANDARD
BEGIN:DAYLIGHT
TZOFFSETFROM:-0400
TZOFFSETTO:-0300
TZNAME:ADT
DTSTART:20190310T060000
END:DAYLIGHT
BEGIN:STANDARD
TZOFFSETFROM:-0300
TZOFFSETTO:-0400
TZNAME:AST
DTSTART:20191103T050000
END:STANDARD
BEGIN:DAYLIGHT
TZOFFSETFROM:-0400
TZOFFSETTO:-0300
TZNAME:ADT
DTSTART:20200308T060000
END:DAYLIGHT
BEGIN:STANDARD
TZOFFSETFROM:-0300
TZOFFSETTO:-0400
TZNAME:AST
DTSTART:20201101T050000
END:STANDARD
END:VTIMEZONE
BEGIN:VTIMEZONE
TZID:UTC
BEGIN:STANDARD
TZOFFSETFROM:+0000
TZOFFSETTO:+0000
TZNAME:UTC
DTSTART:20160101T000000
END:STANDARD
END:VTIMEZONE
BEGIN:VEVENT
DTSTART;TZID=America/Halifax:20190504T150000
DTEND;TZID=America/Halifax:20190504T210000
DTSTAMP:20260421T063158
CREATED:20190429T141006Z
LAST-MODIFIED:20190429T141006Z
UID:3061-1556982000-1557003600@sccompassion.com
SUMMARY:HempQuest
DESCRIPTION:HempQuest will take place on May 4th at Quest Brewing Co in Greenville\, SC. \nThis event is hosted by Cannabis Forward and will feature presentations on hemp\, a film screening\, vendors\, live music\, and a food truck! \nAnd\, yes….that is Star Wars Day so dress appropriately! \nThis is a free event\, but a suggested Love Donation of $10 would be appreciated at the gate. \nShare this:Tweet\n				Email a link to a friend (Opens in new window)\n				Email\n			\n				Print (Opens in new window)\n				Print\n			MoreShare on Tumblr\n				Share on WhatsApp (Opens in new window)\n				WhatsApp\n			\n				Share on Telegram (Opens in new window)\n				Telegram
URL:https://sccompassion.com/event/hempquest/
LOCATION:Quest Brewing Company\, 55 Airview Dr\, Greenville\, SC\, 29607\, United States
CATEGORIES:Awareness,Education,Information
ATTACH;FMTTYPE=image/jpeg:https://sccompassion.com/wp-content/uploads/2019/04/HempQuest.jpg
ORGANIZER;CN="Cannabis Forward":MAILTO:cannabisforward@gmail.com
END:VEVENT
BEGIN:VEVENT
DTSTART;TZID=America/Halifax:20181111T030000
DTEND;TZID=America/Halifax:20181111T170000
DTSTAMP:20260421T063158
CREATED:20181104T203835Z
LAST-MODIFIED:20181104T203927Z
UID:2854-1541905200-1541955600@sccompassion.com
SUMMARY:Hartsville Campaign For Compassion 2018
DESCRIPTION:A Case for Medical Cannabis Legalization in South Carolina\n\nShare this:Tweet\n				Email a link to a friend (Opens in new window)\n				Email\n			\n				Print (Opens in new window)\n				Print\n			MoreShare on Tumblr\n				Share on WhatsApp (Opens in new window)\n				WhatsApp\n			\n				Share on Telegram (Opens in new window)\n				Telegram
URL:https://sccompassion.com/event/hartsville-campaign-for-compassion-2018/
LOCATION:Davidson Hall\, Davidson Hall\, Coker College\, Hartsville\, SC\, 29550\, United States
CATEGORIES:Awareness,Information
ATTACH;FMTTYPE=image/jpeg:https://sccompassion.com/wp-content/uploads/2018/11/Copy-of-Panel-Discussion-Mental-Illness-scaled.jpg
END:VEVENT
BEGIN:VEVENT
DTSTART;TZID=America/Halifax:20180820T113000
DTEND;TZID=America/Halifax:20180820T130000
DTSTAMP:20260421T063158
CREATED:20180731T164756Z
LAST-MODIFIED:20180731T165154Z
UID:2650-1534764600-1534770000@sccompassion.com
SUMMARY:East Cooper Republican Club Lunch
DESCRIPTION:Panel to Discuss Medical Marijuana with Senator Tom Davis\, Representatives Lin Bennett and Nancy Mace\, Jill Swing\, President SC Compassionate Care Alliance \n\n\n\n\n\n\n\n\n\n\n\n\n\n\n\n\n\n\n\n\n\n\n\n\n\n\n\n\n\n\nLet’s talk about the SC Compassionate Care Act…\nWhat do people suffering from cancer\, seizure disorders\, Parkinson’s\, PTSD\, multiple sclerosis\, glaucoma\, ALS\, Crohn’s disease\, chronic pain\, and other debilitating medical conditions have in common?\nLearn about the SC Compassionate Care Act and how cannabis for medical use can be strictly regulated for qualified patients under the guidance of their physicians. \nJoin the conversation and bring your questions! \n\n\n\n\n\n\n\n\n\n\n\n\n\n\n\nPayment for lunch is required for entry to the dining room.  It is the policy of the hotel to charge for all who are standing or seated in the dining room\, regardless of whether or not they eat lunch. We appreciate your understanding. \n\n\n\n\n\n\nWe greatly appreciate your RSVP to help us better plan and our convenient Pre-Pay guarantees your seat and speeds up your check-in.\nRSVP HERE \n\n\n\n\n\n\nMonday\, August 20th\n           \n11:30am:  Sign-in & Lunch\n12:00pm:  Lunch Begins\n1:00pm:  Lunch Concludes \nCost:  $22.00 Members / $25.00 Non-Members \nHilton Garden Inn\n300 Wingo Way\nMount Pleasant\, SC  29464 \nCLICK HERE FOR DIRECTIONS\n\n\n\n\n\n\n\nPayment for lunch is required for entry to the dining room.  It is the policy of the hotel to charge for all who are standing or seated in the dining room\, regardless of whether or not they eat lunch. We appreciate your understanding.\n\n\n\n\nCLICK HERE TO PAY NOW\n\n\n\n\n\n\n\n\n\n\n\n\nShare this:Tweet\n				Email a link to a friend (Opens in new window)\n				Email\n			\n				Print (Opens in new window)\n				Print\n			MoreShare on Tumblr\n				Share on WhatsApp (Opens in new window)\n				WhatsApp\n			\n				Share on Telegram (Opens in new window)\n				Telegram
URL:https://sccompassion.com/event/east-cooper-republican-club-lunch/
LOCATION:Hilton Garden Inn\, 300 Wingo Way\, Mount Pleasant\, SC\, 29464\, United States
CATEGORIES:Awareness,Education,Information
ATTACH;FMTTYPE=image/jpeg:https://sccompassion.com/wp-content/uploads/2018/07/Marijuana_leaf_flag_2000x.jpg
END:VEVENT
BEGIN:VEVENT
DTSTART;VALUE=DATE:20170907
DTEND;VALUE=DATE:20170908
DTSTAMP:20260421T063158
CREATED:20170907T211750Z
LAST-MODIFIED:20170907T212419Z
UID:1559-1504742400-1504828799@sccompassion.com
SUMMARY:Hurricane Irma Emergency Information Centers
DESCRIPTION:Here are a couple of websites that will help South Carolinians and their preparations for Hurricane Irma which at this time of writing is still  category 5 hurricane with winds sustaining at 175 mph and travelling at 16 mph towards the US coast. The first website to check out is: \nscemd.org \nIt is the complete emergency listings from the state of South Carolina. Here you can find emergency planning guides\, evacuation routes\, shelters\, where to get supplies\, insurance info and school closings to name just SOME of the things you can find on there. The second one is a link to the governor’s press conference at 2 p.pm. today for those that missed it \nTweets by scgovernorpress \nHere he tells us what he expects to happen in the next couple of days and what he has initiated. \nShare this:Tweet\n				Email a link to a friend (Opens in new window)\n				Email\n			\n				Print (Opens in new window)\n				Print\n			MoreShare on Tumblr\n				Share on WhatsApp (Opens in new window)\n				WhatsApp\n			\n				Share on Telegram (Opens in new window)\n				Telegram
URL:https://sccompassion.com/event/hurricane-irma-emergency-information-centers/
LOCATION:State of South Carolina\, USA\, All\, 29486\, United States
CATEGORIES:Education,Information,Lobby
END:VEVENT
BEGIN:VEVENT
DTSTART;TZID=UTC:20170627T180000
DTEND;TZID=UTC:20170627T200000
DTSTAMP:20260421T063158
CREATED:20170616T212503Z
LAST-MODIFIED:20170616T212607Z
UID:1283-1498586400-1498593600@sccompassion.com
SUMMARY:Greenwood: Educational Meeting and Status Updates
DESCRIPTION:Share this:Tweet\n				Email a link to a friend (Opens in new window)\n				Email\n			\n				Print (Opens in new window)\n				Print\n			MoreShare on Tumblr\n				Share on WhatsApp (Opens in new window)\n				WhatsApp\n			\n				Share on Telegram (Opens in new window)\n				Telegram
URL:https://sccompassion.com/event/greenwood-educational-meeting-status-updates/
LOCATION:Montague’s Restaurant\, 115 Hampton Ave\, Ste N\, Greenwood\, 29646\, United States
CATEGORIES:Education,Information
ATTACH;FMTTYPE=image/jpeg:https://sccompassion.com/wp-content/uploads/2017/06/12161016866_cc7fe3e6f9_b.jpg
END:VEVENT
BEGIN:VEVENT
DTSTART;TZID=UTC:20170406T180000
DTEND;TZID=UTC:20170406T193000
DTSTAMP:20260421T063158
CREATED:20170322T195557Z
LAST-MODIFIED:20170804T202937Z
UID:990-1491501600-1491507000@sccompassion.com
SUMMARY:The South Carolina Compassionate Care Act: An Informative Discussion
DESCRIPTION:Compassionate Alliance of Greenwood would like to invite you to an introductory and informative meeting regarding the South Carolina Compassionate Care Act (S212\, H3521). For those of you unaware\, the South Carolina Compassionate Care Act is a comprehensive medical cannabis bill that was introduced in the first legislation session of 2017 by Senator Tom Davis of Beaufort and Representative Peter McCoy of Charleston. We will discuss the bill in detail as well as the current legislative status. Our group is dedicated to advocating for legal access to cannabis for medicinal purposes. If you share this interest\, please join us. EDUCATE. ADVOCATE. LEGALIZE. MEDICATE. \nShare this:Tweet\n				Email a link to a friend (Opens in new window)\n				Email\n			\n				Print (Opens in new window)\n				Print\n			MoreShare on Tumblr\n				Share on WhatsApp (Opens in new window)\n				WhatsApp\n			\n				Share on Telegram (Opens in new window)\n				Telegram
URL:https://sccompassion.com/event/south-carolina-compassionate-care-act-informative-discussion/
LOCATION:Montague’s Restaurant\, 115 Hampton Ave\, Ste N\, Greenwood\, SC\, 29646\, United States
CATEGORIES:Information
ATTACH;FMTTYPE=image/jpeg:https://sccompassion.com/wp-content/uploads/2014/09/cannabis.jpg
END:VEVENT
END:VCALENDAR