BEGIN:VCALENDAR
VERSION:2.0
PRODID:-//SC Compassionate Care Alliance - ECPv6.15.20//NONSGML v1.0//EN
CALSCALE:GREGORIAN
METHOD:PUBLISH
X-ORIGINAL-URL:https://sccompassion.com
X-WR-CALDESC:Events for SC Compassionate Care Alliance
REFRESH-INTERVAL;VALUE=DURATION:PT1H
X-Robots-Tag:noindex
X-PUBLISHED-TTL:PT1H
BEGIN:VTIMEZONE
TZID:America/New_York
BEGIN:DAYLIGHT
TZOFFSETFROM:-0500
TZOFFSETTO:-0400
TZNAME:EDT
DTSTART:20220313T070000
END:DAYLIGHT
BEGIN:STANDARD
TZOFFSETFROM:-0400
TZOFFSETTO:-0500
TZNAME:EST
DTSTART:20221106T060000
END:STANDARD
BEGIN:DAYLIGHT
TZOFFSETFROM:-0500
TZOFFSETTO:-0400
TZNAME:EDT
DTSTART:20230312T070000
END:DAYLIGHT
BEGIN:STANDARD
TZOFFSETFROM:-0400
TZOFFSETTO:-0500
TZNAME:EST
DTSTART:20231105T060000
END:STANDARD
BEGIN:DAYLIGHT
TZOFFSETFROM:-0500
TZOFFSETTO:-0400
TZNAME:EDT
DTSTART:20240310T070000
END:DAYLIGHT
BEGIN:STANDARD
TZOFFSETFROM:-0400
TZOFFSETTO:-0500
TZNAME:EST
DTSTART:20241103T060000
END:STANDARD
BEGIN:DAYLIGHT
TZOFFSETFROM:-0500
TZOFFSETTO:-0400
TZNAME:EDT
DTSTART:20250309T070000
END:DAYLIGHT
BEGIN:STANDARD
TZOFFSETFROM:-0400
TZOFFSETTO:-0500
TZNAME:EST
DTSTART:20251102T060000
END:STANDARD
END:VTIMEZONE
BEGIN:VEVENT
DTSTART;TZID=America/New_York:20231128T083000
DTEND;TZID=America/New_York:20231201T150000
DTSTAMP:20260421T063704
CREATED:20230925T132534Z
LAST-MODIFIED:20230925T132535Z
UID:9872-1701160200-1701442800@sccompassion.com
SUMMARY:2023 MJBizCon
DESCRIPTION:Experience boundless inspiration at the world’s largest gathering of cannabis entrepreneurs. Whether you’re a seasoned pro or a newcomer to the scene feel the power of the MJBizCon community at the Las Vegas Convention Center\, November 28 – December 1\, 2023. Connect with 30\,000 cannabis executives\, including cultivators\, manufacturers\, brands\, retailers\, MSOs\, and ancillary businesses\, and ignite your shared passion for the plant. Immerse yourself in awe-inspiring talks delivered by 100+ industry experts during the three-day conference and pre-show forums. And discover the latest trends and technologies showcased by 1\,400 exhibitors\, poised to help you scale up your operation. \n\n\n\nSave 10% with promo code: 23SCCCA10 \n\n\n\n\n\n\n\n\n\n\nShare this:Tweet\n				Email a link to a friend (Opens in new window)\n				Email\n			\n				Print (Opens in new window)\n				Print\n			MoreShare on Tumblr\n				Share on WhatsApp (Opens in new window)\n				WhatsApp\n			\n				Share on Telegram (Opens in new window)\n				Telegram
URL:https://sccompassion.com/event/2023-mjbizcon/
LOCATION:Las Vegas Convention Center\, 3150 Paradise Rd\, Las Vegas\, Nevada\, 89109\, United States
CATEGORIES:Conference
ATTACH;FMTTYPE=image/gif:https://sccompassion.com/wp-content/uploads/2023/09/SOCIAL-THRU-9_28-1200-×-628-px-3.gif
END:VEVENT
BEGIN:VEVENT
DTSTART;TZID=America/New_York:20240910T170000
DTEND;TZID=America/New_York:20240910T193000
DTSTAMP:20260421T063704
CREATED:20240907T211009Z
LAST-MODIFIED:20240907T211013Z
UID:11456-1725987600-1725996600@sccompassion.com
SUMMARY:Charleston Business & Brews
DESCRIPTION:You are cordially invited to attend Charleston Business & Brews Tuesday\, Sept. 10th at New Realm Brewing on Daniel Island with South Carolina State Representative Mark Smith\, U.S. Cannabis Council Executive Director Ed Smith and SC Compassionate Care Alliance Executive Director Jill Swing. \n\n\n\n5-7:30pm. Free admission. Open to the public. \n\n\n\nWe’ll have some complimentary hors d’oeuvres and awesome door prizes to give away\, so bring your business cards and some friends or coworkers. \n\n\n\nNew Realm Brewing is located at 880 Island Park Dr.\, Charleston\, SC 29492. \n\n\n\nA Follywood Event. Sponsored by Ridge Media and United Bank. \n\n\n\nBusiness & Brews is a casual networking happy hour for community-engaged professionals from all walks of life in the Charleston / Lowcountry SC area. Each gathering has a 10-15 minute presentation by a local community leader\, and the speaker typically takes Q&A from attendees afterwards. B&B is typically free to attend and open to the public. Our monthly speakers leave the PowerPoints and structured speeches behind and tell their stories in a laidback and fun atmosphere. So let your hair down\, take that tie off\, roll up your sleeves\, grab a cold one and mingle with like-minded professionals who want to rub elbows with people who care about their community and the folks who make it a great place to live. \n\n\n\n\n\n\n\n\n\n\nShare this:Tweet\n				Email a link to a friend (Opens in new window)\n				Email\n			\n				Print (Opens in new window)\n				Print\n			MoreShare on Tumblr\n				Share on WhatsApp (Opens in new window)\n				WhatsApp\n			\n				Share on Telegram (Opens in new window)\n				Telegram
URL:https://sccompassion.com/event/charleston-business-brews/
LOCATION:New Realm Brewing Co. – Charleston\, 880 Island Park Drive\, Charleston\, South Carolina\, 880 Island Park Drive\, United States
ATTACH;FMTTYPE=image/jpeg:https://sccompassion.com/wp-content/uploads/2024/09/458926278_1225214958781941_7379451944935247761_n.jpg
END:VEVENT
BEGIN:VEVENT
DTSTART;TZID=America/New_York:20241203T080000
DTEND;TZID=America/New_York:20241206T170000
DTSTAMP:20260421T063704
CREATED:20240822T025958Z
LAST-MODIFIED:20240822T030002Z
UID:11374-1733212800-1733504400@sccompassion.com
SUMMARY:MJ Biz Con 2024
DESCRIPTION:Share this:Tweet\n				Email a link to a friend (Opens in new window)\n				Email\n			\n				Print (Opens in new window)\n				Print\n			MoreShare on Tumblr\n				Share on WhatsApp (Opens in new window)\n				WhatsApp\n			\n				Share on Telegram (Opens in new window)\n				Telegram
URL:https://sccompassion.com/event/mj-biz-con-2024/
LOCATION:Las Vegas Convention Center\, 3150 Paradise Rd\, Las Vegas\, Nevada\, 89109\, United States
CATEGORIES:Conference
ATTACH;FMTTYPE=image/png:https://sccompassion.com/wp-content/uploads/2024/08/image003.png
END:VEVENT
END:VCALENDAR